BEGIN:VCALENDAR
VERSION:2.0
PRODID:icalendar-ruby
CALSCALE:GREGORIAN
METHOD:PUBLISH
BEGIN:VEVENT
DTSTAMP:20260422T213153Z
UID:109-1464691@lmclabelle.org
DTSTART:20261030T130000Z
DTEND:20261030T143000Z
CLASS:PUBLIC
CREATED:20260422T161905
DESCRIPTION:
LAST-MODIFIED:20260422T161905
LOCATION:
SUMMARY:Women's Bible Study
URL;VALUE=URI:https://lmclabelle.org/events/womens-bible-study/2026-10-30
END:VEVENT
END:VCALENDAR
