BEGIN:VCALENDAR
VERSION:2.0
PRODID:icalendar-ruby
CALSCALE:GREGORIAN
METHOD:PUBLISH
BEGIN:VEVENT
DTSTAMP:20260422T201321Z
UID:109-1463942@lmclabelle.org
DTSTART:20261023T130000Z
DTEND:20261023T143000Z
CLASS:PUBLIC
CREATED:20260422T132413
DESCRIPTION:
LAST-MODIFIED:20260422T132413
LOCATION:
SUMMARY:Women's Bible Study
URL;VALUE=URI:https://lmclabelle.org/events/womens-bible-study/2026-10-23
END:VEVENT
END:VCALENDAR
