BEGIN:VCALENDAR
VERSION:2.0
PRODID:icalendar-ruby
CALSCALE:GREGORIAN
METHOD:PUBLISH
BEGIN:VEVENT
DTSTAMP:20260422T183502Z
UID:109-1463941@lmclabelle.org
DTSTART:20261016T130000Z
DTEND:20261016T143000Z
CLASS:PUBLIC
CREATED:20260422T132413
DESCRIPTION:
LAST-MODIFIED:20260422T132413
LOCATION:
SUMMARY:Women's Bible Study
URL;VALUE=URI:https://lmclabelle.org/events/womens-bible-study/2026-10-16
END:VEVENT
END:VCALENDAR
