BEGIN:VCALENDAR
VERSION:2.0
PRODID:icalendar-ruby
CALSCALE:GREGORIAN
METHOD:PUBLISH
BEGIN:VEVENT
DTSTAMP:20260422T171252Z
UID:109-1463192@lmclabelle.org
DTSTART:20261009T130000Z
DTEND:20261009T143000Z
CLASS:PUBLIC
CREATED:20260422T102843
DESCRIPTION:
LAST-MODIFIED:20260422T102843
LOCATION:
SUMMARY:Women's Bible Study
URL;VALUE=URI:https://lmclabelle.org/events/womens-bible-study/2026-10-09
END:VEVENT
END:VCALENDAR
